BEGIN:VCALENDAR
VERSION:2.0
PRODID:-//MovePeople//MoveCMS//DE
BEGIN:VEVENT
UID:164
DTSTAMP:20260509T000000Z
DTSTART:20260509T090000
DTEND:20260509T140000
LOCATION:Gärtnerei Lassalle-Haus
SUMMARY:Grosser Setzlingsmarkt in unser Bio-Gärtnerei
PRIORITY:3
END:VEVENT
END:VCALENDAR