BEGIN:VCALENDAR
VERSION:2.0
PRODID:-//MovePeople//MoveCMS//DE
BEGIN:VEVENT
UID:173
DTSTAMP:20261124T000000Z
DTSTART:20261124T193000
DTEND:20261124T201500
LOCATION:Stiftung zuwebe - Restaurant Incontro
SUMMARY:Konzert Harmoniemusik Zug
PRIORITY:3
END:VEVENT
END:VCALENDAR