BEGIN:VCALENDAR
VERSION:2.0
PRODID:-//MovePeople//MoveCMS//DE
BEGIN:VEVENT
UID:174
DTSTAMP:20261121T000000Z
DTSTART:20261121T120000
DTEND:20261121T170000
LOCATION:Stiftung zuwebe
SUMMARY:Weihnachtsmarkt
PRIORITY:3
END:VEVENT
END:VCALENDAR